BEGIN:VCALENDAR
VERSION:2.0
PRODID:-//RoSPA Advanced Drivers and Riders Thames Valley - ECPv6.15.17.1//NONSGML v1.0//EN
CALSCALE:GREGORIAN
METHOD:PUBLISH
X-ORIGINAL-URL:https://roadartvg.org.uk
X-WR-CALDESC:Events for RoSPA Advanced Drivers and Riders Thames Valley
REFRESH-INTERVAL;VALUE=DURATION:PT1H
X-Robots-Tag:noindex
X-PUBLISHED-TTL:PT1H
BEGIN:VTIMEZONE
TZID:Europe/London
BEGIN:DAYLIGHT
TZOFFSETFROM:+0000
TZOFFSETTO:+0100
TZNAME:BST
DTSTART:20240331T010000
END:DAYLIGHT
BEGIN:STANDARD
TZOFFSETFROM:+0100
TZOFFSETTO:+0000
TZNAME:GMT
DTSTART:20241027T010000
END:STANDARD
BEGIN:DAYLIGHT
TZOFFSETFROM:+0000
TZOFFSETTO:+0100
TZNAME:BST
DTSTART:20250330T010000
END:DAYLIGHT
BEGIN:STANDARD
TZOFFSETFROM:+0100
TZOFFSETTO:+0000
TZNAME:GMT
DTSTART:20251026T010000
END:STANDARD
BEGIN:DAYLIGHT
TZOFFSETFROM:+0000
TZOFFSETTO:+0100
TZNAME:BST
DTSTART:20260329T010000
END:DAYLIGHT
BEGIN:STANDARD
TZOFFSETFROM:+0100
TZOFFSETTO:+0000
TZNAME:GMT
DTSTART:20261025T010000
END:STANDARD
END:VTIMEZONE
BEGIN:VEVENT
DTSTART;TZID=Europe/London:20251109T100000
DTEND;TZID=Europe/London:20251109T170000
DTSTAMP:20260426T030616
CREATED:20250922T102732Z
LAST-MODIFIED:20250922T102742Z
UID:2957-1762682400-1762707600@roadartvg.org.uk
SUMMARY:Skid Pan Dates
DESCRIPTION:We are pleased to announce the return of the Group’s popular annual skid pan event. \nThe course will be run on the skid pan at Thruxton Circuit https://thruxtonracing.co.uk/skidpan.They have a selection of front and rear wheel drive cars\, which allow you to experience how to correct and control a sliding car. Their skid pan is a polished concrete surface\, which uses water and no chemicals. \nHere is a video\, to give you a taster of what to expect onthe day: https://www.youtube.com/watch?v=irz5TkpPJpY \nWe have secured two dates for the course\, Sunday 9th November and Saturday 15th November. The session will commence at 10am on both days and last for approximately 1 hour. There are 4 places available on each course and the cost is £75 (which is subsidised by the group).  Please register via the link below. \nhttps://membermojo.co.uk/tvg-roadar/store \nPlaces will not be secured until you make the payment\, so as this is a popular event then we would encourage you to book soon.
URL:https://roadartvg.org.uk/event/skid-pan-dates/
LOCATION:Thruxton Circuit\, SP11 8PN\, United Kingdom
CATEGORIES:Car Social,Car Training,Events
END:VEVENT
END:VCALENDAR