BEGIN:VCALENDAR
VERSION:2.0
PRODID:-//RoSPA Advanced Drivers and Riders Thames Valley - ECPv6.15.17.1//NONSGML v1.0//EN
CALSCALE:GREGORIAN
METHOD:PUBLISH
X-ORIGINAL-URL:https://roadartvg.org.uk
X-WR-CALDESC:Events for RoSPA Advanced Drivers and Riders Thames Valley
REFRESH-INTERVAL;VALUE=DURATION:PT1H
X-Robots-Tag:noindex
X-PUBLISHED-TTL:PT1H
BEGIN:VTIMEZONE
TZID:Europe/London
BEGIN:DAYLIGHT
TZOFFSETFROM:+0000
TZOFFSETTO:+0100
TZNAME:BST
DTSTART:20250330T010000
END:DAYLIGHT
BEGIN:STANDARD
TZOFFSETFROM:+0100
TZOFFSETTO:+0000
TZNAME:GMT
DTSTART:20251026T010000
END:STANDARD
BEGIN:DAYLIGHT
TZOFFSETFROM:+0000
TZOFFSETTO:+0100
TZNAME:BST
DTSTART:20260329T010000
END:DAYLIGHT
BEGIN:STANDARD
TZOFFSETFROM:+0100
TZOFFSETTO:+0000
TZNAME:GMT
DTSTART:20261025T010000
END:STANDARD
BEGIN:DAYLIGHT
TZOFFSETFROM:+0000
TZOFFSETTO:+0100
TZNAME:BST
DTSTART:20270328T010000
END:DAYLIGHT
BEGIN:STANDARD
TZOFFSETFROM:+0100
TZOFFSETTO:+0000
TZNAME:GMT
DTSTART:20271031T010000
END:STANDARD
END:VTIMEZONE
BEGIN:VEVENT
DTSTART;TZID=Europe/London:20260405T090000
DTEND;TZID=Europe/London:20260405T170000
DTSTAMP:20260426T005318
CREATED:20260215T112950Z
LAST-MODIFIED:20260323T100416Z
UID:3055-1775379600-1775408400@roadartvg.org.uk
SUMMARY:Social Rideout April 5th
DESCRIPTION:Looking for a relaxed social ride packed with great roads\, good coffee\, and friendly company? Come along for our Progressive Loop Ride through Berkshire and Oxfordshire—a perfect blend of riding and social stops\, designed for all confident road riders.\n📅 Ride Plan\nTotal time: ~6 hours\nRiding time: ~4 hours\nRide Leader: Brian\nStart: Beaconsfield Services (M40 J2) @ 9AM\nPace: Progressive but smooth and social \n🕣 Schedule\n09:30 – Wheels rolling from Beaconsfield Services (M40 J2)\n10:45 – Coffee stop at Hartwell Nurseries\, west of Aylesbury\nFuel Stop (~75 miles) – Benson\n13:00 – Lunch at the Spire & Spoke\, Watlington\n15:30 – Return to Beaconsfield Services \nExpect a friendly atmosphere\, flowing countryside routes\, and plenty of chances to chat bikes over coffee and lunch. Whether you’re riding solo or bringing a mate\, everyone’s welcome.\nCome ride with us and make your Sunday unforgettable!
URL:https://roadartvg.org.uk/event/social-rideout-april-5th/
LOCATION:Honesty Cade\, Dummer Down Ln\, Dummer\,\, Basingstoke\, RG25 2AR\, United Kingdom
CATEGORIES:Rideout
END:VEVENT
END:VCALENDAR