BEGIN:VCALENDAR
VERSION:2.0
PRODID:-//RoSPA Advanced Drivers and Riders Thames Valley - ECPv6.15.17.1//NONSGML v1.0//EN
CALSCALE:GREGORIAN
METHOD:PUBLISH
X-ORIGINAL-URL:https://roadartvg.org.uk
X-WR-CALDESC:Events for RoSPA Advanced Drivers and Riders Thames Valley
REFRESH-INTERVAL;VALUE=DURATION:PT1H
X-Robots-Tag:noindex
X-PUBLISHED-TTL:PT1H
BEGIN:VTIMEZONE
TZID:Europe/London
BEGIN:DAYLIGHT
TZOFFSETFROM:+0000
TZOFFSETTO:+0100
TZNAME:BST
DTSTART:20220327T010000
END:DAYLIGHT
BEGIN:STANDARD
TZOFFSETFROM:+0100
TZOFFSETTO:+0000
TZNAME:GMT
DTSTART:20221030T010000
END:STANDARD
BEGIN:DAYLIGHT
TZOFFSETFROM:+0000
TZOFFSETTO:+0100
TZNAME:BST
DTSTART:20230326T010000
END:DAYLIGHT
BEGIN:STANDARD
TZOFFSETFROM:+0100
TZOFFSETTO:+0000
TZNAME:GMT
DTSTART:20231029T010000
END:STANDARD
BEGIN:DAYLIGHT
TZOFFSETFROM:+0000
TZOFFSETTO:+0100
TZNAME:BST
DTSTART:20240331T010000
END:DAYLIGHT
BEGIN:STANDARD
TZOFFSETFROM:+0100
TZOFFSETTO:+0000
TZNAME:GMT
DTSTART:20241027T010000
END:STANDARD
BEGIN:DAYLIGHT
TZOFFSETFROM:+0000
TZOFFSETTO:+0100
TZNAME:BST
DTSTART:20250330T010000
END:DAYLIGHT
BEGIN:STANDARD
TZOFFSETFROM:+0100
TZOFFSETTO:+0000
TZNAME:GMT
DTSTART:20251026T010000
END:STANDARD
BEGIN:DAYLIGHT
TZOFFSETFROM:+0000
TZOFFSETTO:+0100
TZNAME:BST
DTSTART:20260329T010000
END:DAYLIGHT
BEGIN:STANDARD
TZOFFSETFROM:+0100
TZOFFSETTO:+0000
TZNAME:GMT
DTSTART:20261025T010000
END:STANDARD
BEGIN:DAYLIGHT
TZOFFSETFROM:+0000
TZOFFSETTO:+0100
TZNAME:BST
DTSTART:20270328T010000
END:DAYLIGHT
BEGIN:STANDARD
TZOFFSETFROM:+0100
TZOFFSETTO:+0000
TZNAME:GMT
DTSTART:20271031T010000
END:STANDARD
END:VTIMEZONE
BEGIN:VEVENT
DTSTART;TZID=Europe/London:20260317T190000
DTEND;TZID=Europe/London:20260317T203000
DTSTAMP:20260425T191316
CREATED:20260215T120157Z
LAST-MODIFIED:20260220T095018Z
UID:3082-1773774000-1773779400@roadartvg.org.uk
SUMMARY:Presentation Evening - National Highways Traffic Officers
DESCRIPTION:National Highways Traffic Officers – Guest Presentation \nTuesday 17th March – 7:30pm\nSherfield on Loddon Village Hall (near A33\, 5 miles before Basingstoke towards the M3)\nHall open from 7:00pm \nWe are delighted to welcome representatives from National Highways for a 45-minute presentation to RoSPA RoADAR Thames Valley Group. \nThis promises to be a fascinating insight into: \n    What National Highways actually does on the Strategic Road Network\n    What it does not do (and how it differs from the police and local authorities)\n    The legal powers of Traffic Officers\n    How incidents are managed on motorways and major A-roads\n    Red-X compliance\, lane closures and live carriageway safety\n    Real-world operational experiences — including some interesting (and possibly humorous) stories from the network \nAs advanced drivers and riders\, we regularly use the strategic road network and benefit from understanding the systems\, procedures and safety measures that operate behind the scenes. \nThis is an excellent opportunity to deepen our knowledge\, ask informed questions\, and gain operational insight that directly enhances our own roadcraft and hazard awareness. \nWe encourage strong attendance — this is exactly the sort of professional engagement that strengthens our understanding and improves our standards. \n Present
URL:https://roadartvg.org.uk/event/presentation-evening-national-highways/
LOCATION:Sherfield-on-Loddon Village Hall\, Reading Rd\, Sherfield on Loddon\, Hook RG27 0EZ\, UK\, Sherfield-on-Loddon Village Hall\, Reading Rd\,\, Sherfield on Loddon\, RG27 0EZ
CATEGORIES:Car Social,Events,Social
END:VEVENT
BEGIN:VEVENT
DTSTART;TZID=Europe/London:20250706T084500
DTEND;TZID=Europe/London:20250706T170000
DTSTAMP:20260425T191316
CREATED:20250615T082608Z
LAST-MODIFIED:20250615T082608Z
UID:2911-1751791500-1751821200@roadartvg.org.uk
SUMMARY:Social Ride out - July 6th 2025
DESCRIPTION:Pace: Suitable for riders of all experience\, riding eithersolo or with a pillion. \nDistance: 194 Miles (Excluding unintentional diversions) \nDeparture: 08:45 (to make the pre-ride briefing) \nMeeting Point: Costa Car park\, Drive Thru\, Reading Road\,Winnersh\, Wokingham\, RG41 5HQ (Not the Cinema Costa\, the one 100m away on theother side of the roundabout next to the Bar & Block/Premier Inn) \nNew Oxford Ring Road! \nWe have a new ride out leader this month: Charles\, so if you are brave enough to risk it\, please be gentle with him. : ) \nPlease arrive with full tanks\, there is a Shell petrol station 0.25 miles from the meeting point at Loddon Bridge. We will decide on fuelstops by the bikes that join us. \nOur route will take us on a far more interesting ring road around Oxford. Heading west to Shrivenham we will then turn north stopping at Burford about 1h50 later for a stretch and Starbucks if needed. \nFrom here we will continue north to Radway and then turneastward\, heading for lunch in Wardington at about 12:30. \nAfter lunch we continue east past Buckingham and then southward to some great roads from Thame to Henley with a brief stop at about15:00\, terminating at the Shire on the A4\, which puts you in easy reach of both the M4 and M40. \nMostly A and B roads with reasonable surfaces however pure sports might not enjoy a couple of spots where surfaces could be better! But this is the UK….
URL:https://roadartvg.org.uk/event/social-ride-out-july-6th-2025/
LOCATION:Costa Coffee Drive Thru\, Reading Rd\,\, Winnersh\, RG41 5HQ\, United Kingdom
CATEGORIES:Events,Motorcycle Social,Social
END:VEVENT
BEGIN:VEVENT
DTSTART;TZID=Europe/London:20231001T093000
DTEND;TZID=Europe/London:20231001T120000
DTSTAMP:20260425T191316
CREATED:20230723T133804Z
LAST-MODIFIED:20230902T173105Z
UID:2400-1696152600-1696161600@roadartvg.org.uk
SUMMARY:Skid Pan Sessions
DESCRIPTION:Come and join us for the Group’s annual skid pan event at Thruxton Circuit . \nThruxton have a selection of front and rear wheel drive cars\, which allow you to experience how to correct and control a sliding car. Their skid pan is a polished concrete surface\, which uses water and no chemicals. \nHere is a video\, to give you a taster of what to expect on the day: \n \n  \nWe have secured two dates for the course\, Saturday 23rd September and Sunday 1st October. The session will commence at 10am on both days and last for approximately 2 hours. We have just 1 place left on each day now! The cost is £75 (which is subsidised by the group). \nYou can book your place through our secure members store: https://membermojo.co.uk/tvg-roadar/store
URL:https://roadartvg.org.uk/event/skid-pan-oct/
LOCATION:Thruxton Circuit\, SP11 8PN\, United Kingdom
CATEGORIES:Car Social,Car Training,Events,Social
ATTACH;FMTTYPE=image/jpeg:https://roadartvg.org.uk/wp-content/uploads/2023/03/IMGP3733a.jpg
END:VEVENT
BEGIN:VEVENT
DTSTART;TZID=Europe/London:20230923T093000
DTEND;TZID=Europe/London:20230923T120000
DTSTAMP:20260425T191316
CREATED:20230723T133602Z
LAST-MODIFIED:20230723T133606Z
UID:2397-1695461400-1695470400@roadartvg.org.uk
SUMMARY:Skid Pan Sessions
DESCRIPTION:Come and join us for the Group’s annual skid pan event at Thruxton Circuit . \nThruxton have a selection of front and rear wheel drive cars\, which allow you to experience how to correct and control a sliding car. Their skid pan is a polished concrete surface\, which uses water and no chemicals. \nHere is a video\, to give you a taster of what to expect on the day: \n \n  \nWe have secured two dates for the course\, Saturday 23rd September and Sunday 1st October. The session will commence at 10am on both days and last for approximately 2 hours. There are 4 places available on each course and the cost is £75 (which is subsidised by the group). \nYou can book your place through our secure members store: https://membermojo.co.uk/tvg-roadar/store
URL:https://roadartvg.org.uk/event/skid-pan-sessions/
LOCATION:Thruxton Circuit\, SP11 8PN\, United Kingdom
CATEGORIES:Car Social,Car Training,Events,Social
END:VEVENT
BEGIN:VEVENT
DTSTART;TZID=Europe/London:20230520T103000
DTEND;TZID=Europe/London:20230520T143000
DTSTAMP:20260425T191316
CREATED:20230517T145419Z
LAST-MODIFIED:20230602T201209Z
UID:2234-1684578600-1684593000@roadartvg.org.uk
SUMMARY:White Waltham Airport Visit
DESCRIPTION:Join us on Saturday 20th May for an exclusive tour by Mark Green\, a former fireman and tutor for Thames Valley Group who ‘spread his wings’ and took up flying. \nHe is now a manager at White Waltham and is also a pilot training instructor. \nThe morning will start with a talk on the history of White Waltham Airfield and Mark will then tell us about his training activities\, comparing advanced road vehicle and aircraft flying instruction. \nAfter lunch (included in the price) we will be given a tour of the airfield including the hangers containing some historic aircraft. \nThe price is £12:50 per head inclusive of lunch and refreshments on arrival and during the morning break. Non-members are welcome to attend for the same price and members can buy tickets on their behalf. \nWe have a few places left\, so please go here: Our Store to book your ticket. \n 
URL:https://roadartvg.org.uk/event/white-waltham-airport-visit/
LOCATION:West London Aero Club\, Waltham Road\, White Waltham\, SL6 3NJ
CATEGORIES:Events,Social
END:VEVENT
END:VCALENDAR